BEGIN:VCALENDAR
VERSION:2.0
PRODID:-//hacksw/handcal//NONSGML v1.0//EN
BEGIN:VEVENT
DTSTART:20260430T170000
DTEND:20260430T200000
LOCATION:La MaCI \n339, Avenue Centrale \n38400 SAINT-MARTIN-D'HERES
ORGANIZER;CN=Alexander HOLMES:MAILTO:alexander.holmes@univ-grenoble-alpes.fr
SUMMARY:Invitation à un moment d'exception - Alumni UGA
DESCRIPTION:🚨 CHŒUR DE DOCTEURS 2026 🚨\n Évènement d’exception\n Cette année, le PhD Alumni vous invite à une expérience collective autour de la voix, accessible à toutes et tous, pour se détendre, s’exprimer...
URL:https://www.phdalumni-uga.fr/fr/event/invitation-a-un-moment-d-exception-alumni-uga/2026/04/30/460
BEGIN:VALARM
TRIGGER:-P0DT1H0M0S
ACTION:DISPLAY
END:VALARM
END:VEVENT
END:VCALENDAR