BEGIN:VCALENDAR
VERSION:2.0
PRODID:-//hacksw/handcal//NONSGML v1.0//EN
BEGIN:VEVENT
DTSTART:20260424T120000
DTEND:20260626T130000
LOCATION:https://09a8add5.sibforms.com/serve/MUIFAJ-PirQrTbdBxpFxMBZuPCnjwM3dBPiVzsvn8_7b1VW2ZYwwYYS2mW0fteDRJefYv2CprRYmCRUE18HOWYAmcwLKphwtQvwFQd-wndg9C-1BZ1HTGY8rhwA8qGaCSr2wd8zP79Splc6jJColXZW5AEExP9mHDYNHXZtXiPKUMjU7KBywxo9ygBLo0C41ZG2bSxqc2RSU_ADSZg==
ORGANIZER;CN=Alexander HOLMES:MAILTO:alexander.holmes@univ-grenoble-alpes.fr
SUMMARY:Webinaires de découverte de la plateforme nationale du doctorat
DESCRIPTION:\nINSCRIVEZ VOUS AU PROCHAIN WEBINAIRE EMPLOYEURS LE 30 AVRIL\nEt retrouvez les 3 prochaines dates :\njeudi 30 avril - 12h (1h) [employeurs]\nvendredi 29 mai - 12h (1h) [universités et...
URL:https://www.phdalumni-uga.fr/en/event/webinaires-de-decouverte-de-la-plateforme-nationale-du-doctorat/2026/04/24/474
BEGIN:VALARM
TRIGGER:-P0DT1H0M0S
ACTION:DISPLAY
END:VALARM
END:VEVENT
END:VCALENDAR