BEGIN:VCALENDAR
VERSION:2.0
PRODID:-//hacksw/handcal//NONSGML v1.0//EN
BEGIN:VEVENT
DTSTART:20250626T090000
DTEND:20250627T170000
LOCATION:www.youtube.com/@LPNC.Grenoble
ORGANIZER;CN=Anna Borne:MAILTO:annaa.borne@gmail.com
SUMMARY:6ème édition des Rencontres Jeunes Chercheur·euse·s
DESCRIPTION:Cette année, les doctorants du Laboratoire de Psychologie et Neurocognition (LPNC) et du Laboratoire Interuniversitaire de Psychologie (LIP/PC2S) organisent la 6ème édition des Rencontres Jeunes...
URL:https://www.phdalumni-uga.fr/en/event/6eme-edition-des-rencontres-jeunes-chercheur-euse-s/2025/06/26/427
BEGIN:VALARM
TRIGGER:-P0DT1H0M0S
ACTION:DISPLAY
END:VALARM
END:VEVENT
END:VCALENDAR