BEGIN:VCALENDAR
VERSION:2.0
PRODID:-//hacksw/handcal//NONSGML v1.0//EN
BEGIN:VEVENT
DTSTART:20250218T133000
DTEND:20250218T173000
LOCATION:
ORGANIZER;CN=Alexander HOLMES:MAILTO:alexander.holmes@univ-grenoble-alpes.fr
SUMMARY:Atelier carrière - How to make a success of my international professional mobility plan?
DESCRIPTION:Lieu  OnlineStart date:: 18 février 2025Course ends : 18 février 2025Registration closes : 11 février 2025Objectifs :\n- Identify opportunities in the academic and economic sectors and put them into...
URL:https://www.phdalumni-uga.fr/en/event/atelier-carriere-how-to-make-a-success-of-my-international-professional-mobility-plan/2025/02/18/403
BEGIN:VALARM
TRIGGER:-P0DT1H0M0S
ACTION:DISPLAY
END:VALARM
END:VEVENT
END:VCALENDAR